BEGIN:VCALENDAR
VERSION:2.0
PRODID:spatie/icalendar-generator
DESCRIPTION:Évènements de Éditions iXe
X-WR-CALDESC:Évènements de Éditions iXe
REFRESH-INTERVAL;VALUE=DURATION:PT1440M
X-PUBLISHED-TTL:PT1440M
BEGIN:VTIMEZONE
TZID:Europe/Paris
BEGIN:STANDARD
DTSTART:20181028T030000Z
TZOFFSETFROM:+0200
TZOFFSETTO:+0100
END:STANDARD
BEGIN:DAYLIGHT
DTSTART:20190331T020000Z
TZOFFSETFROM:+0100
TZOFFSETTO:+0200
END:DAYLIGHT
END:VTIMEZONE
BEGIN:VTIMEZONE
TZID:UTC
BEGIN:STANDARD
DTSTART:20250729T040042Z
TZOFFSETFROM:+0000
TZOFFSETTO:+0000
END:STANDARD
END:VTIMEZONE
BEGIN:VEVENT
UID:32-29
DTSTAMP:20260425T040042Z
SUMMARY:5e rencontres du livre et du citoyen – Royan
LOCATION:
ORGANIZER;CN=Oristelle Bonis:MAILTO:ixedit@orange.fr
DTSTART;TZID=Europe/Paris:20190210T133000
DTEND;TZID=Europe/Paris:20190210T153000
X-ALT-DESC;FMTTYPE=TEXT/HTML:Chahla Chafiq présente son dernier livre\, Le
  rendez-vous iranien de Simone de Beauvoir\, avant de participer à la tab
 le ronde \"Femmes et migrations\"\, avec Marie Poinsot et Marie Rajablat.
CATEGORIES:iXe en rencontres
URL;VALUE=URI:https://www.editions-ixe.fr/mc-rencontre/5e-rencontres-du-liv
 re-et-du-citoyen-royan/
METHOD:PUBLISH
END:VEVENT
END:VCALENDAR